BEGIN:VCALENDAR
VERSION:2.0
PRODID:-//MAHDIEH - ECPv6.15.20//NONSGML v1.0//EN
CALSCALE:GREGORIAN
METHOD:PUBLISH
X-WR-CALNAME:MAHDIEH
X-ORIGINAL-URL:https://www.mahdieh.org
X-WR-CALDESC:Events for MAHDIEH
REFRESH-INTERVAL;VALUE=DURATION:PT1H
X-Robots-Tag:noindex
X-PUBLISHED-TTL:PT1H
BEGIN:VTIMEZONE
TZID:America/New_York
BEGIN:DAYLIGHT
TZOFFSETFROM:-0500
TZOFFSETTO:-0400
TZNAME:EDT
DTSTART:20250309T070000
END:DAYLIGHT
BEGIN:STANDARD
TZOFFSETFROM:-0400
TZOFFSETTO:-0500
TZNAME:EST
DTSTART:20251102T060000
END:STANDARD
BEGIN:DAYLIGHT
TZOFFSETFROM:-0500
TZOFFSETTO:-0400
TZNAME:EDT
DTSTART:20260308T070000
END:DAYLIGHT
BEGIN:STANDARD
TZOFFSETFROM:-0400
TZOFFSETTO:-0500
TZNAME:EST
DTSTART:20261101T060000
END:STANDARD
BEGIN:DAYLIGHT
TZOFFSETFROM:-0500
TZOFFSETTO:-0400
TZNAME:EDT
DTSTART:20270314T070000
END:DAYLIGHT
BEGIN:STANDARD
TZOFFSETFROM:-0400
TZOFFSETTO:-0500
TZNAME:EST
DTSTART:20271107T060000
END:STANDARD
BEGIN:DAYLIGHT
TZOFFSETFROM:-0500
TZOFFSETTO:-0400
TZNAME:EDT
DTSTART:20280312T070000
END:DAYLIGHT
BEGIN:STANDARD
TZOFFSETFROM:-0400
TZOFFSETTO:-0500
TZNAME:EST
DTSTART:20281105T060000
END:STANDARD
END:VTIMEZONE
BEGIN:VEVENT
DTSTART;VALUE=DATE:20260624
DTEND;VALUE=DATE:20260625
DTSTAMP:20260419T141038
CREATED:20230318T193834Z
LAST-MODIFIED:20260328T164931Z
UID:2090-1782259200-1782345599@www.mahdieh.org
SUMMARY:TASU'A HOSSEINI
DESCRIPTION:
URL:https://www.mahdieh.org/event/tasua-hosseini/
ATTACH;FMTTYPE=image/jpeg:https://www.mahdieh.org/wp-content/uploads/2023/03/Ashura-Tasua.jpg
END:VEVENT
BEGIN:VEVENT
DTSTART;VALUE=DATE:20260625
DTEND;VALUE=DATE:20260626
DTSTAMP:20260419T141038
CREATED:20230318T193834Z
LAST-MODIFIED:20260328T164755Z
UID:2091-1782345600-1782431999@www.mahdieh.org
SUMMARY:ASHURA - Martyrdun of Imam Hossein (a.s.) 61 A.H
DESCRIPTION:
URL:https://www.mahdieh.org/event/ashura-martyrdun-of-imam-hossein-a-s-61-a-h/
CATEGORIES:Martyrdom
ATTACH;FMTTYPE=image/jpeg:https://www.mahdieh.org/wp-content/uploads/2023/03/Ashura-Ashura.jpg
END:VEVENT
BEGIN:VEVENT
DTSTART;VALUE=DATE:20260627
DTEND;VALUE=DATE:20260628
DTSTAMP:20260419T141038
CREATED:20230318T193835Z
LAST-MODIFIED:20260328T194447Z
UID:2092-1782518400-1782604799@www.mahdieh.org
SUMMARY:Martyrdom of Imam Ali Ibn Hossein Sajjad (a.s.) 95 A.H.
DESCRIPTION:
URL:https://www.mahdieh.org/event/martyrdom-of-imam-ali-ben-hossein-sajjad-a-s-95-a-h/
ATTACH;FMTTYPE=image/jpeg:https://www.mahdieh.org/wp-content/uploads/2023/07/Imam-Sajad-01.jpg
END:VEVENT
BEGIN:VEVENT
DTSTART;VALUE=DATE:20270228
DTEND;VALUE=DATE:20270301
DTSTAMP:20260419T141038
CREATED:20240301T050149Z
LAST-MODIFIED:20260328T164117Z
UID:2056-1803772800-1803859199@www.mahdieh.org
SUMMARY:Martyrdom of Imam ALI (a.s.) 40 A.H.
DESCRIPTION:
URL:https://www.mahdieh.org/event/denise-of-imam-ali-a-s-40-a-h/
ATTACH;FMTTYPE=image/jpeg:https://www.mahdieh.org/wp-content/uploads/2023/03/Ali.jpg
END:VEVENT
END:VCALENDAR